BEGIN:VCALENDAR
VERSION:2.0
PRODID:-//Koninklijke Model Yacht Club Antwerpen V.Z.W. - gesticht in 1905 - ECPv6.15.20//NONSGML v1.0//EN
CALSCALE:GREGORIAN
METHOD:PUBLISH
X-WR-CALNAME:Koninklijke Model Yacht Club Antwerpen V.Z.W. - gesticht in 1905
X-ORIGINAL-URL:https://www.kmyca.be
X-WR-CALDESC:Evenementen voor Koninklijke Model Yacht Club Antwerpen V.Z.W. - gesticht in 1905
REFRESH-INTERVAL;VALUE=DURATION:PT1H
X-Robots-Tag:noindex
X-PUBLISHED-TTL:PT1H
BEGIN:VTIMEZONE
TZID:Europe/Brussels
BEGIN:DAYLIGHT
TZOFFSETFROM:+0100
TZOFFSETTO:+0200
TZNAME:CEST
DTSTART:20250330T010000
END:DAYLIGHT
BEGIN:STANDARD
TZOFFSETFROM:+0200
TZOFFSETTO:+0100
TZNAME:CET
DTSTART:20251026T010000
END:STANDARD
BEGIN:DAYLIGHT
TZOFFSETFROM:+0100
TZOFFSETTO:+0200
TZNAME:CEST
DTSTART:20260329T010000
END:DAYLIGHT
BEGIN:STANDARD
TZOFFSETFROM:+0200
TZOFFSETTO:+0100
TZNAME:CET
DTSTART:20261025T010000
END:STANDARD
BEGIN:DAYLIGHT
TZOFFSETFROM:+0100
TZOFFSETTO:+0200
TZNAME:CEST
DTSTART:20270328T010000
END:DAYLIGHT
BEGIN:STANDARD
TZOFFSETFROM:+0200
TZOFFSETTO:+0100
TZNAME:CET
DTSTART:20271031T010000
END:STANDARD
END:VTIMEZONE
BEGIN:VEVENT
DTSTART;TZID=Europe/Brussels:20260517T100000
DTEND;TZID=Europe/Brussels:20260517T170000
DTSTAMP:20260424T003524
CREATED:20251228T190622Z
LAST-MODIFIED:20251228T190622Z
UID:7616-1779012000-1779037200@www.kmyca.be
SUMMARY:Wedstrijd Electrovaren
DESCRIPTION:
URL:https://www.kmyca.be/event/wedstrijd-electrovaren-6/
LOCATION:Vaarwater\, ThonetLaan\, Antwerpen\, 2050\, België
CATEGORIES:Activiteiten Kalender 2026,Activiteiten MotorVaren,KMYCA
ATTACH;FMTTYPE=image/jpeg:https://www.kmyca.be/wp-content/uploads/2022/05/DSC_6931.jpg
END:VEVENT
BEGIN:VEVENT
DTSTART;TZID=Europe/Brussels:20260531T130000
DTEND;TZID=Europe/Brussels:20260531T170000
DTSTAMP:20260424T003524
CREATED:20251228T190821Z
LAST-MODIFIED:20251228T190821Z
UID:7618-1780232400-1780246800@www.kmyca.be
SUMMARY:Train&Boat Day
DESCRIPTION:
URL:https://www.kmyca.be/event/trainboat-day/
LOCATION:Schilde Strand\, Zilverreiger\, Schilde\, 2970\, België
CATEGORIES:Activiteiten Kalender 2026,Activiteiten MotorVaren,Activiteiten StoomVaren,Activiteiten Treinen,KMYCA
ATTACH;FMTTYPE=image/jpeg:https://www.kmyca.be/wp-content/uploads/2024/03/20240308_170339.jpg
ORGANIZER;CN="KMYCA":MAILTO:info@kmyca.be
END:VEVENT
BEGIN:VEVENT
DTSTART;TZID=Europe/Brussels:20260628T100000
DTEND;TZID=Europe/Brussels:20260628T170000
DTSTAMP:20260424T003524
CREATED:20251228T191138Z
LAST-MODIFIED:20251228T191138Z
UID:7622-1782640800-1782666000@www.kmyca.be
SUMMARY:Wedstrijd Electrovaren
DESCRIPTION:
URL:https://www.kmyca.be/event/wedstrijd-electrovaren-7/
LOCATION:Vaarwater\, ThonetLaan\, Antwerpen\, 2050\, België
CATEGORIES:Activiteiten Kalender 2026,Activiteiten MotorVaren,KMYCA
ATTACH;FMTTYPE=image/jpeg:https://www.kmyca.be/wp-content/uploads/2019/12/koen68.jpg
END:VEVENT
BEGIN:VEVENT
DTSTART;TZID=Europe/Brussels:20260726T080000
DTEND;TZID=Europe/Brussels:20260726T170000
DTSTAMP:20260424T003524
CREATED:20251228T191423Z
LAST-MODIFIED:20251228T191423Z
UID:7626-1785052800-1785085200@www.kmyca.be
SUMMARY:Wedstrijd Electrovaren
DESCRIPTION:
URL:https://www.kmyca.be/event/wedstrijd-electrovaren-8/
LOCATION:Vaarwater\, ThonetLaan\, Antwerpen\, 2050\, België
CATEGORIES:Activiteiten Kalender 2026,Activiteiten MotorVaren,KMYCA
ATTACH;FMTTYPE=image/jpeg:https://www.kmyca.be/wp-content/uploads/2019/12/koen65.jpg
END:VEVENT
BEGIN:VEVENT
DTSTART;TZID=Europe/Brussels:20260816T100000
DTEND;TZID=Europe/Brussels:20260816T170000
DTSTAMP:20260424T003524
CREATED:20251228T191708Z
LAST-MODIFIED:20251228T191708Z
UID:7630-1786874400-1786899600@www.kmyca.be
SUMMARY:Wedstrijd Electrovaren
DESCRIPTION:
URL:https://www.kmyca.be/event/wedstrijd-electrovaren-9/
LOCATION:Vaarwater\, ThonetLaan\, Antwerpen\, 2050\, België
CATEGORIES:Activiteiten Kalender 2026,Activiteiten MotorVaren,KMYCA
ATTACH;FMTTYPE=image/jpeg:https://www.kmyca.be/wp-content/uploads/2019/12/koen62.jpg
END:VEVENT
BEGIN:VEVENT
DTSTART;TZID=Europe/Brussels:20260913T100000
DTEND;TZID=Europe/Brussels:20260913T170000
DTSTAMP:20260424T003524
CREATED:20251228T191941Z
LAST-MODIFIED:20251228T191941Z
UID:7634-1789293600-1789318800@www.kmyca.be
SUMMARY:Wedstrijd Electrovaren
DESCRIPTION:
URL:https://www.kmyca.be/event/wedstrijd-electrovaren-10/
LOCATION:Vaarwater\, ThonetLaan\, Antwerpen\, 2050\, België
CATEGORIES:Activiteiten Kalender 2026,Activiteiten MotorVaren,KMYCA
ATTACH;FMTTYPE=image/jpeg:https://www.kmyca.be/wp-content/uploads/2022/05/DSC_6926.jpg
END:VEVENT
BEGIN:VEVENT
DTSTART;VALUE=DATE:20260919
DTEND;VALUE=DATE:20260921
DTSTAMP:20260424T003524
CREATED:20251112T190159Z
LAST-MODIFIED:20251112T190355Z
UID:7507-1789776000-1789948799@www.kmyca.be
SUMMARY:Baasrode Feest
DESCRIPTION:Tentoonstelling StoomBoten
URL:https://www.kmyca.be/event/baasrode-feest/
LOCATION:Baasrode\, Sint-Ursmarusstraat 137\, Antwerpen\, 9200\, België
CATEGORIES:Activiteiten Kalender 2026,Activiteiten MotorVaren,Activiteiten StoomVaren,KMYCA
ORGANIZER;CN="KMYCA":MAILTO:info@kmyca.be
END:VEVENT
BEGIN:VEVENT
DTSTART;TZID=Europe/Brussels:20261004T100000
DTEND;TZID=Europe/Brussels:20261004T170000
DTSTAMP:20260424T003524
CREATED:20251228T192228Z
LAST-MODIFIED:20251228T192228Z
UID:7638-1791108000-1791133200@www.kmyca.be
SUMMARY:Wedstrijd Electrovaren
DESCRIPTION:
URL:https://www.kmyca.be/event/wedstrijd-electrovaren-11/
LOCATION:Vaarwater\, ThonetLaan\, Antwerpen\, 2050\, België
CATEGORIES:Activiteiten Kalender 2026,Activiteiten MotorVaren,KMYCA
ATTACH;FMTTYPE=image/jpeg:https://www.kmyca.be/wp-content/uploads/2025/06/IMG_1815.jpg
END:VEVENT
BEGIN:VEVENT
DTSTART;TZID=Europe/Brussels:20261017T170000
DTEND;TZID=Europe/Brussels:20261017T210000
DTSTAMP:20260424T003524
CREATED:20251228T192421Z
LAST-MODIFIED:20251228T192421Z
UID:7640-1792256400-1792270800@www.kmyca.be
SUMMARY:Schemervaren
DESCRIPTION:
URL:https://www.kmyca.be/event/schemervaren-2/
LOCATION:Vaarwater\, ThonetLaan\, Antwerpen\, 2050\, België
CATEGORIES:Activiteiten Kalender 2026,Activiteiten MotorVaren,Activiteiten StoomVaren,KMYCA
ATTACH;FMTTYPE=image/jpeg:https://www.kmyca.be/wp-content/uploads/2019/12/Koen03.jpg
ORGANIZER;CN="KMYCA":MAILTO:info@kmyca.be
END:VEVENT
BEGIN:VEVENT
DTSTART;TZID=Europe/Brussels:20261115T130000
DTEND;TZID=Europe/Brussels:20261115T170000
DTSTAMP:20260424T003524
CREATED:20251228T192704Z
LAST-MODIFIED:20251228T192704Z
UID:7642-1794747600-1794762000@www.kmyca.be
SUMMARY:Hotdogvaren
DESCRIPTION:
URL:https://www.kmyca.be/event/hotdogvaren-2/
LOCATION:Vaarwater\, ThonetLaan\, Antwerpen\, 2050\, België
CATEGORIES:Activiteiten Kalender 2026,Activiteiten MotorVaren,Activiteiten StoomVaren,KMYCA
ATTACH;FMTTYPE=image/jpeg:https://www.kmyca.be/wp-content/uploads/2019/12/stoomvaren1.jpg
ORGANIZER;CN="KMYCA":MAILTO:info@kmyca.be
END:VEVENT
BEGIN:VEVENT
DTSTART;TZID=Europe/Brussels:20261227T130000
DTEND;TZID=Europe/Brussels:20261227T170000
DTSTAMP:20260424T003524
CREATED:20251228T192825Z
LAST-MODIFIED:20251228T192825Z
UID:7644-1798376400-1798390800@www.kmyca.be
SUMMARY:Kerstvaren
DESCRIPTION:
URL:https://www.kmyca.be/event/kerstvaren-2/
LOCATION:Vaarwater\, ThonetLaan\, Antwerpen\, 2050\, België
CATEGORIES:Activiteiten Kalender 2026,Activiteiten MotorVaren,Activiteiten StoomVaren,KMYCA
ATTACH;FMTTYPE=image/jpeg:https://www.kmyca.be/wp-content/uploads/2023/05/20230521_112044_resized_1.jpg
ORGANIZER;CN="KMYCA":MAILTO:info@kmyca.be
END:VEVENT
END:VCALENDAR