BEGIN:VCALENDAR
VERSION:2.0
PRODID:-//Koninklijke Model Yacht Club Antwerpen V.Z.W. - gesticht in 1905 - ECPv6.15.20//NONSGML v1.0//EN
CALSCALE:GREGORIAN
METHOD:PUBLISH
X-WR-CALNAME:Koninklijke Model Yacht Club Antwerpen V.Z.W. - gesticht in 1905
X-ORIGINAL-URL:https://www.kmyca.be
X-WR-CALDESC:Evenementen voor Koninklijke Model Yacht Club Antwerpen V.Z.W. - gesticht in 1905
REFRESH-INTERVAL;VALUE=DURATION:PT1H
X-Robots-Tag:noindex
X-PUBLISHED-TTL:PT1H
BEGIN:VTIMEZONE
TZID:Europe/Brussels
BEGIN:DAYLIGHT
TZOFFSETFROM:+0100
TZOFFSETTO:+0200
TZNAME:CEST
DTSTART:20250330T010000
END:DAYLIGHT
BEGIN:STANDARD
TZOFFSETFROM:+0200
TZOFFSETTO:+0100
TZNAME:CET
DTSTART:20251026T010000
END:STANDARD
BEGIN:DAYLIGHT
TZOFFSETFROM:+0100
TZOFFSETTO:+0200
TZNAME:CEST
DTSTART:20260329T010000
END:DAYLIGHT
BEGIN:STANDARD
TZOFFSETFROM:+0200
TZOFFSETTO:+0100
TZNAME:CET
DTSTART:20261025T010000
END:STANDARD
BEGIN:DAYLIGHT
TZOFFSETFROM:+0100
TZOFFSETTO:+0200
TZNAME:CEST
DTSTART:20270328T010000
END:DAYLIGHT
BEGIN:STANDARD
TZOFFSETFROM:+0200
TZOFFSETTO:+0100
TZNAME:CET
DTSTART:20271031T010000
END:STANDARD
END:VTIMEZONE
BEGIN:VEVENT
DTSTART;TZID=Europe/Brussels:20260419T080000
DTEND;TZID=Europe/Brussels:20260419T170000
DTSTAMP:20260424T020726
CREATED:20251228T190329Z
LAST-MODIFIED:20251228T190329Z
UID:7612-1776585600-1776618000@www.kmyca.be
SUMMARY:Wedstrijd Electrovaren
DESCRIPTION:
URL:https://www.kmyca.be/event/wedstrijd-electrovaren-5/
LOCATION:Vaarwater\, ThonetLaan\, Antwerpen\, 2050\, België
CATEGORIES:Activiteiten Kalender 2026,Activiteiten MotorVaren,KMYCA
ATTACH;FMTTYPE=image/jpeg:https://www.kmyca.be/wp-content/uploads/2019/12/koen71.jpg
END:VEVENT
BEGIN:VEVENT
DTSTART;TZID=Europe/Brussels:20260328T100000
DTEND;TZID=Europe/Brussels:20260328T120000
DTSTAMP:20260424T020726
CREATED:20260215T183410Z
LAST-MODIFIED:20260215T183410Z
UID:7660-1774692000-1774699200@www.kmyca.be
SUMMARY:2/3-D tekencursus
DESCRIPTION:Zaal LINDE\nZijn er nog mensen die graag willen weten hoe je met een computer 2D tekeningen maakt.?\nHoe je vanuit die tekeningen\, zelf een programma kan maken\, dat een frees-tafel aanstuurt?\nHoe je daarmee betere onderdelen voor jouw project kan maken.\nHet zullen dan wel enkele sessies zijn van ongeveer 2 uur.\nOnderwerpen:\n– 1 – Technologie over frezen en materiaal ( basiskennis)\n– 2 – Welk gratis programma en hoe kan ik daar mee werken?\n– 3 – Wat is G-code. hoe ziet een G-code programma eruit.\n– 4 – Hoe schrijf ik\, vanuit die tekening\, mijn G-code.( Zonder dat ik nog eens een “betalend” programma moet kopen)\nHeb je interesse?  Laat het weten\, dan organiseren we enkele sessies waar we alles haarfijn uitleggen! Info en inschrijven: j.vanderveken@skynet.be\n 
URL:https://www.kmyca.be/event/2-3-d-tekencursus-3/
LOCATION:’t Gasthuis\, Turnhoutsebaan 199\, Wijnegem\, 2110\, België
CATEGORIES:Activiteiten Kalender 2026,Activiteiten MotorVaren,Activiteiten StoomVaren,Activiteiten Treinen,Activiteiten Zeilen,KMYCA,Vrachtwagens
ATTACH;FMTTYPE=image/png:https://www.kmyca.be/wp-content/uploads/2025/02/afbeelding_2025-02-28_204111270.png
ORGANIZER;CN="KMYCA":MAILTO:info@kmyca.be
END:VEVENT
BEGIN:VEVENT
DTSTART;TZID=Europe/Brussels:20260314T100000
DTEND;TZID=Europe/Brussels:20260314T120000
DTSTAMP:20260424T020726
CREATED:20260215T183228Z
LAST-MODIFIED:20260215T183530Z
UID:7658-1773482400-1773489600@www.kmyca.be
SUMMARY:2/3-D Tekencursus
DESCRIPTION:Zaal LINDE\nZijn er nog mensen die graag willen weten hoe je met een computer 2D tekeningen maakt.?\nHoe je vanuit die tekeningen\, zelf een programma kan maken\, dat een frees-tafel aanstuurt?\nHoe je daarmee betere onderdelen voor jouw project kan maken.\nHet zullen dan wel enkele sessies zijn van ongeveer 2 uur.\nOnderwerpen:\n– 1 – Technologie over frezen en materiaal ( basiskennis)\n– 2 – Welk gratis programma en hoe kan ik daar mee werken?\n– 3 – Wat is G-code. hoe ziet een G-code programma eruit.\n– 4 – Hoe schrijf ik\, vanuit die tekening\, mijn G-code.( Zonder dat ik nog eens een “betalend” programma moet kopen)\nHeb je interesse?  Laat het weten\, dan organiseren we enkele sessies waar we alles haarfijn uitleggen! Info en inschrijven: j.vanderveken@skynet.be
URL:https://www.kmyca.be/event/2-3-d-tekencursus-2/
LOCATION:’t Gasthuis\, Turnhoutsebaan 199\, Wijnegem\, 2110\, België
CATEGORIES:Activiteiten Kalender 2026,Activiteiten MotorVaren,Activiteiten StoomVaren,Activiteiten Treinen,Activiteiten Zeilen,KMYCA,Vrachtwagens
ATTACH;FMTTYPE=image/png:https://www.kmyca.be/wp-content/uploads/2025/02/afbeelding_2025-02-28_204111270.png
ORGANIZER;CN="KMYCA":MAILTO:info@kmyca.be
END:VEVENT
BEGIN:VEVENT
DTSTART;TZID=Europe/Brussels:20260308T130000
DTEND;TZID=Europe/Brussels:20260308T170000
DTSTAMP:20260424T020726
CREATED:20251228T190030Z
LAST-MODIFIED:20251228T190030Z
UID:7608-1772974800-1772989200@www.kmyca.be
SUMMARY:Frietjesvaren
DESCRIPTION:
URL:https://www.kmyca.be/event/frietjesvaren/
LOCATION:Vaarwater\, ThonetLaan\, Antwerpen\, 2050\, België
CATEGORIES:Activiteiten Kalender 2026,Activiteiten MotorVaren,Activiteiten StoomVaren,KMYCA
ATTACH;FMTTYPE=image/jpeg:https://www.kmyca.be/wp-content/uploads/2025/06/IMG_1845.jpg
END:VEVENT
BEGIN:VEVENT
DTSTART;TZID=Europe/Brussels:20260228T100000
DTEND;TZID=Europe/Brussels:20260228T120000
DTSTAMP:20260424T020726
CREATED:20260215T183026Z
LAST-MODIFIED:20260215T183458Z
UID:7656-1772272800-1772280000@www.kmyca.be
SUMMARY:2/3-D Tekencursus
DESCRIPTION:In Zaal Wilg\nZijn er nog mensen die graag willen weten hoe je met een computer 2D tekeningen maakt.?\nHoe je vanuit die tekeningen\, zelf een programma kan maken\, dat een frees-tafel aanstuurt?\nHoe je daarmee betere onderdelen voor jouw project kan maken.\nHet zullen dan wel enkele sessies zijn van ongeveer 2 uur.\nOnderwerpen:\n– 1 – Technologie over frezen en materiaal ( basiskennis)\n– 2 – Welk gratis programma en hoe kan ik daar mee werken?\n– 3 – Wat is G-code. hoe ziet een G-code programma eruit.\n– 4 – Hoe schrijf ik\, vanuit die tekening\, mijn G-code.( Zonder dat ik nog eens een “betalend” programma moet kopen)\nHeb je interesse?  Laat het weten\, dan organiseren we enkele sessies waar we alles haarfijn uitleggen! Info en inschrijven: j.vanderveken@skynet.be\n 
URL:https://www.kmyca.be/event/2-3-d-tekencursus/
LOCATION:’t Gasthuis\, Turnhoutsebaan 199\, Wijnegem\, 2110\, België
CATEGORIES:Activiteiten Kalender 2026,Activiteiten MotorVaren,Activiteiten StoomVaren,Activiteiten Treinen,Activiteiten Zeilen,KMYCA,Vrachtwagens
ATTACH;FMTTYPE=image/png:https://www.kmyca.be/wp-content/uploads/2025/02/afbeelding_2025-02-28_204111270.png
ORGANIZER;CN="KMYCA":MAILTO:info@kmyca.be
END:VEVENT
BEGIN:VEVENT
DTSTART;TZID=Europe/Brussels:20260208T130000
DTEND;TZID=Europe/Brussels:20260208T170000
DTSTAMP:20260424T020726
CREATED:20251228T185916Z
LAST-MODIFIED:20251228T185916Z
UID:7606-1770555600-1770570000@www.kmyca.be
SUMMARY:Valentijnvaren
DESCRIPTION:
URL:https://www.kmyca.be/event/valentijnvaren-2/
LOCATION:Vaarwater\, ThonetLaan\, Antwerpen\, 2050\, België
CATEGORIES:Activiteiten Kalender 2026,Activiteiten MotorVaren,Activiteiten StoomVaren,KMYCA
ATTACH;FMTTYPE=image/jpeg:https://www.kmyca.be/wp-content/uploads/2019/11/motorvaren3.jpg
END:VEVENT
BEGIN:VEVENT
DTSTART;TZID=Europe/Brussels:20260123T200000
DTEND;TZID=Europe/Brussels:20260123T220000
DTSTAMP:20260424T020726
CREATED:20251124T184729Z
LAST-MODIFIED:20251124T184947Z
UID:7541-1769198400-1769205600@www.kmyca.be
SUMMARY:Algemene Vergadering KMYCA
DESCRIPTION:Vergaderzaal “EIK”
URL:https://www.kmyca.be/event/algemene-vergadering-kmyca/
LOCATION:’t Gasthuis\, Turnhoutsebaan 199\, Wijnegem\, 2110\, België
CATEGORIES:Activiteiten Kalender 2026,Activiteiten MotorVaren,Activiteiten StoomVaren,Activiteiten Treinen,Activiteiten Zeilen,KMYCA,Vrachtwagens
ATTACH;FMTTYPE=image/png:https://www.kmyca.be/wp-content/uploads/2025/02/afbeelding_2025-02-28_204111270.png
ORGANIZER;CN="KMYCA":MAILTO:info@kmyca.be
END:VEVENT
BEGIN:VEVENT
DTSTART;TZID=Europe/Brussels:20260111T130000
DTEND;TZID=Europe/Brussels:20260111T170000
DTSTAMP:20260424T020726
CREATED:20251228T185728Z
LAST-MODIFIED:20251228T185728Z
UID:7604-1768136400-1768150800@www.kmyca.be
SUMMARY:Soepvaren
DESCRIPTION:
URL:https://www.kmyca.be/event/soepvaren-2/
LOCATION:Vaarwater\, ThonetLaan\, Antwerpen\, 2050\, België
CATEGORIES:Activiteiten Kalender 2026,Activiteiten MotorVaren,Activiteiten StoomVaren,KMYCA
ATTACH;FMTTYPE=image/jpeg:https://www.kmyca.be/wp-content/uploads/2019/12/Koen50.jpg
END:VEVENT
END:VCALENDAR