BEGIN:VCALENDAR
VERSION:2.0
PRODID:-//Koninklijke Model Yacht Club Antwerpen V.Z.W. - gesticht in 1905 - ECPv6.15.20//NONSGML v1.0//EN
CALSCALE:GREGORIAN
METHOD:PUBLISH
X-WR-CALNAME:Koninklijke Model Yacht Club Antwerpen V.Z.W. - gesticht in 1905
X-ORIGINAL-URL:https://www.kmyca.be
X-WR-CALDESC:Evenementen voor Koninklijke Model Yacht Club Antwerpen V.Z.W. - gesticht in 1905
REFRESH-INTERVAL;VALUE=DURATION:PT1H
X-Robots-Tag:noindex
X-PUBLISHED-TTL:PT1H
BEGIN:VTIMEZONE
TZID:Europe/Brussels
BEGIN:DAYLIGHT
TZOFFSETFROM:+0100
TZOFFSETTO:+0200
TZNAME:CEST
DTSTART:20250330T010000
END:DAYLIGHT
BEGIN:STANDARD
TZOFFSETFROM:+0200
TZOFFSETTO:+0100
TZNAME:CET
DTSTART:20251026T010000
END:STANDARD
BEGIN:DAYLIGHT
TZOFFSETFROM:+0100
TZOFFSETTO:+0200
TZNAME:CEST
DTSTART:20260329T010000
END:DAYLIGHT
BEGIN:STANDARD
TZOFFSETFROM:+0200
TZOFFSETTO:+0100
TZNAME:CET
DTSTART:20261025T010000
END:STANDARD
BEGIN:DAYLIGHT
TZOFFSETFROM:+0100
TZOFFSETTO:+0200
TZNAME:CEST
DTSTART:20270328T010000
END:DAYLIGHT
BEGIN:STANDARD
TZOFFSETFROM:+0200
TZOFFSETTO:+0100
TZNAME:CET
DTSTART:20271031T010000
END:STANDARD
END:VTIMEZONE
BEGIN:VEVENT
DTSTART;VALUE=DATE:20260426
DTEND;VALUE=DATE:20260427
DTSTAMP:20260423T121810
CREATED:20260321T184354Z
LAST-MODIFIED:20260321T184354Z
UID:7725-1777161600-1777247999@www.kmyca.be
SUMMARY:GITOK Bovenbouw
DESCRIPTION:
URL:https://www.kmyca.be/event/gitok-bovenbouw/
LOCATION:Gitok bovenbouw\, Kapellensteenweg 501\, Kalmthout\, 2920\, België
CATEGORIES:Activiteiten Kalender 2026,Vrachtwagens
ATTACH;FMTTYPE=image/png:https://www.kmyca.be/wp-content/uploads/2026/03/Gitok-bovenbouw.png
END:VEVENT
BEGIN:VEVENT
DTSTART;TZID=Europe/Brussels:20260503T100000
DTEND;TZID=Europe/Brussels:20260503T170000
DTSTAMP:20260423T121810
CREATED:20251228T190454Z
LAST-MODIFIED:20251228T190454Z
UID:7614-1777802400-1777827600@www.kmyca.be
SUMMARY:Wedstrijd Stoomvaren
DESCRIPTION:
URL:https://www.kmyca.be/event/wedstrijd-stoomvaren-9/
LOCATION:Vaarwater\, ThonetLaan\, Antwerpen\, 2050\, België
CATEGORIES:Activiteiten Kalender 2026,Activiteiten StoomVaren,KMYCA
ATTACH;FMTTYPE=image/jpeg:https://www.kmyca.be/wp-content/uploads/2025/06/IMG_1811.jpg
END:VEVENT
BEGIN:VEVENT
DTSTART;TZID=Europe/Brussels:20260508T200000
DTEND;TZID=Europe/Brussels:20260508T220000
DTSTAMP:20260423T121810
CREATED:20251122T183724Z
LAST-MODIFIED:20251122T183724Z
UID:7523-1778270400-1778277600@www.kmyca.be
SUMMARY:Vergadering Draincock
DESCRIPTION:Vergaderzaal “WILG”
URL:https://www.kmyca.be/event/vergadering-draincock-16/
LOCATION:’t Gasthuis\, Turnhoutsebaan 199\, Wijnegem\, 2110\, België
CATEGORIES:Activiteiten Kalender 2026,Activiteiten Treinen,KMYCA
ATTACH;FMTTYPE=image/png:https://www.kmyca.be/wp-content/uploads/2025/02/afbeelding_2025-02-28_204111270.png
END:VEVENT
BEGIN:VEVENT
DTSTART;TZID=Europe/Brussels:20260517T100000
DTEND;TZID=Europe/Brussels:20260517T170000
DTSTAMP:20260423T121810
CREATED:20251228T190622Z
LAST-MODIFIED:20251228T190622Z
UID:7616-1779012000-1779037200@www.kmyca.be
SUMMARY:Wedstrijd Electrovaren
DESCRIPTION:
URL:https://www.kmyca.be/event/wedstrijd-electrovaren-6/
LOCATION:Vaarwater\, ThonetLaan\, Antwerpen\, 2050\, België
CATEGORIES:Activiteiten Kalender 2026,Activiteiten MotorVaren,KMYCA
ATTACH;FMTTYPE=image/jpeg:https://www.kmyca.be/wp-content/uploads/2022/05/DSC_6931.jpg
END:VEVENT
BEGIN:VEVENT
DTSTART;TZID=Europe/Brussels:20260531T130000
DTEND;TZID=Europe/Brussels:20260531T170000
DTSTAMP:20260423T121810
CREATED:20251228T190821Z
LAST-MODIFIED:20251228T190821Z
UID:7618-1780232400-1780246800@www.kmyca.be
SUMMARY:Train&Boat Day
DESCRIPTION:
URL:https://www.kmyca.be/event/trainboat-day/
LOCATION:Schilde Strand\, Zilverreiger\, Schilde\, 2970\, België
CATEGORIES:Activiteiten Kalender 2026,Activiteiten MotorVaren,Activiteiten StoomVaren,Activiteiten Treinen,KMYCA
ATTACH;FMTTYPE=image/jpeg:https://www.kmyca.be/wp-content/uploads/2024/03/20240308_170339.jpg
ORGANIZER;CN="KMYCA":MAILTO:info@kmyca.be
END:VEVENT
BEGIN:VEVENT
DTSTART;TZID=Europe/Brussels:20260607T100000
DTEND;TZID=Europe/Brussels:20260607T170000
DTSTAMP:20260423T121810
CREATED:20251228T191000Z
LAST-MODIFIED:20251228T191000Z
UID:7620-1780826400-1780851600@www.kmyca.be
SUMMARY:Wedstrijd Stoomvaren
DESCRIPTION:
URL:https://www.kmyca.be/event/wedstrijd-stoomvaren-10/
LOCATION:Vaarwater\, ThonetLaan\, Antwerpen\, 2050\, België
CATEGORIES:Activiteiten Kalender 2026,Activiteiten StoomVaren,KMYCA
ATTACH;FMTTYPE=image/jpeg:https://www.kmyca.be/wp-content/uploads/2025/06/IMG_1841-rotated.jpg
END:VEVENT
BEGIN:VEVENT
DTSTART;TZID=Europe/Brussels:20260612T200000
DTEND;TZID=Europe/Brussels:20260612T220000
DTSTAMP:20260423T121810
CREATED:20251122T184057Z
LAST-MODIFIED:20251122T184057Z
UID:7525-1781294400-1781301600@www.kmyca.be
SUMMARY:Vergadering Draincock
DESCRIPTION:Vergaderzaal “EIK”
URL:https://www.kmyca.be/event/vergadering-draincock-17/
LOCATION:’t Gasthuis\, Turnhoutsebaan 199\, Wijnegem\, 2110\, België
CATEGORIES:Activiteiten Kalender 2026,Activiteiten Treinen,KMYCA
ATTACH;FMTTYPE=image/png:https://www.kmyca.be/wp-content/uploads/2025/02/afbeelding_2025-02-28_204111270.png
END:VEVENT
BEGIN:VEVENT
DTSTART;TZID=Europe/Brussels:20260628T100000
DTEND;TZID=Europe/Brussels:20260628T170000
DTSTAMP:20260423T121810
CREATED:20251228T191138Z
LAST-MODIFIED:20251228T191138Z
UID:7622-1782640800-1782666000@www.kmyca.be
SUMMARY:Wedstrijd Electrovaren
DESCRIPTION:
URL:https://www.kmyca.be/event/wedstrijd-electrovaren-7/
LOCATION:Vaarwater\, ThonetLaan\, Antwerpen\, 2050\, België
CATEGORIES:Activiteiten Kalender 2026,Activiteiten MotorVaren,KMYCA
ATTACH;FMTTYPE=image/jpeg:https://www.kmyca.be/wp-content/uploads/2019/12/koen68.jpg
END:VEVENT
BEGIN:VEVENT
DTSTART;VALUE=DATE:20260704
DTEND;VALUE=DATE:20260706
DTSTAMP:20260423T121810
CREATED:20251112T185549Z
LAST-MODIFIED:20251112T190327Z
UID:7503-1783123200-1783295999@www.kmyca.be
SUMMARY:Scheldeland in Stoom 2026
DESCRIPTION:Tentoonstelling StoomTreinen
URL:https://www.kmyca.be/event/scheldeland-in-stoom-2026/
LOCATION:Baasrode\, Sint-Ursmarusstraat 137\, Antwerpen\, 9200\, België
CATEGORIES:Activiteiten Kalender 2026,Activiteiten Treinen,KMYCA
ORGANIZER;CN="KMYCA":MAILTO:info@kmyca.be
END:VEVENT
BEGIN:VEVENT
DTSTART;TZID=Europe/Brussels:20260705T100000
DTEND;TZID=Europe/Brussels:20260705T170000
DTSTAMP:20260423T121810
CREATED:20251228T191307Z
LAST-MODIFIED:20251228T191307Z
UID:7624-1783245600-1783270800@www.kmyca.be
SUMMARY:Wedstrijd Stoomvaren
DESCRIPTION:
URL:https://www.kmyca.be/event/wedstrijd-stoomvaren-11/
LOCATION:Vaarwater\, ThonetLaan\, Antwerpen\, 2050\, België
CATEGORIES:Activiteiten Kalender 2026,Activiteiten StoomVaren,KMYCA
ATTACH;FMTTYPE=image/jpeg:https://www.kmyca.be/wp-content/uploads/2022/05/DSC_6947.jpg
END:VEVENT
BEGIN:VEVENT
DTSTART;TZID=Europe/Brussels:20260710T200000
DTEND;TZID=Europe/Brussels:20260710T220000
DTSTAMP:20260423T121810
CREATED:20251122T184225Z
LAST-MODIFIED:20251122T184225Z
UID:7527-1783713600-1783720800@www.kmyca.be
SUMMARY:Vergadering Draincock
DESCRIPTION:Vergaderzaal “WILG”
URL:https://www.kmyca.be/event/vergadering-draincock-18/
LOCATION:’t Gasthuis\, Turnhoutsebaan 199\, Wijnegem\, 2110\, België
CATEGORIES:Activiteiten Kalender 2026,Activiteiten Treinen,KMYCA
ATTACH;FMTTYPE=image/png:https://www.kmyca.be/wp-content/uploads/2025/02/afbeelding_2025-02-28_204111270.png
END:VEVENT
BEGIN:VEVENT
DTSTART;TZID=Europe/Brussels:20260726T080000
DTEND;TZID=Europe/Brussels:20260726T170000
DTSTAMP:20260423T121810
CREATED:20251228T191423Z
LAST-MODIFIED:20251228T191423Z
UID:7626-1785052800-1785085200@www.kmyca.be
SUMMARY:Wedstrijd Electrovaren
DESCRIPTION:
URL:https://www.kmyca.be/event/wedstrijd-electrovaren-8/
LOCATION:Vaarwater\, ThonetLaan\, Antwerpen\, 2050\, België
CATEGORIES:Activiteiten Kalender 2026,Activiteiten MotorVaren,KMYCA
ATTACH;FMTTYPE=image/jpeg:https://www.kmyca.be/wp-content/uploads/2019/12/koen65.jpg
END:VEVENT
BEGIN:VEVENT
DTSTART;TZID=Europe/Brussels:20260809T100000
DTEND;TZID=Europe/Brussels:20260809T170000
DTSTAMP:20260423T121810
CREATED:20251228T191535Z
LAST-MODIFIED:20251228T191535Z
UID:7628-1786269600-1786294800@www.kmyca.be
SUMMARY:Wedstrijd Stoomvaren
DESCRIPTION:
URL:https://www.kmyca.be/event/wedstrijd-stoomvaren-12/
LOCATION:Vaarwater\, ThonetLaan\, Antwerpen\, 2050\, België
CATEGORIES:Activiteiten Kalender 2026,Activiteiten StoomVaren,KMYCA
ATTACH;FMTTYPE=image/jpeg:https://www.kmyca.be/wp-content/uploads/2025/06/IMG_1840.jpg
END:VEVENT
BEGIN:VEVENT
DTSTART;TZID=Europe/Brussels:20260814T200000
DTEND;TZID=Europe/Brussels:20260814T220000
DTSTAMP:20260423T121810
CREATED:20251122T184402Z
LAST-MODIFIED:20251122T184402Z
UID:7529-1786737600-1786744800@www.kmyca.be
SUMMARY:VergaderingDraincock
DESCRIPTION:Vergaderzaal “WILG”
URL:https://www.kmyca.be/event/vergaderingdraincock/
LOCATION:’t Gasthuis\, Turnhoutsebaan 199\, Wijnegem\, 2110\, België
CATEGORIES:Activiteiten Kalender 2026,Activiteiten Treinen,KMYCA
ATTACH;FMTTYPE=image/png:https://www.kmyca.be/wp-content/uploads/2025/02/afbeelding_2025-02-28_204111270.png
END:VEVENT
BEGIN:VEVENT
DTSTART;TZID=Europe/Brussels:20260816T100000
DTEND;TZID=Europe/Brussels:20260816T170000
DTSTAMP:20260423T121810
CREATED:20251228T191708Z
LAST-MODIFIED:20251228T191708Z
UID:7630-1786874400-1786899600@www.kmyca.be
SUMMARY:Wedstrijd Electrovaren
DESCRIPTION:
URL:https://www.kmyca.be/event/wedstrijd-electrovaren-9/
LOCATION:Vaarwater\, ThonetLaan\, Antwerpen\, 2050\, België
CATEGORIES:Activiteiten Kalender 2026,Activiteiten MotorVaren,KMYCA
ATTACH;FMTTYPE=image/jpeg:https://www.kmyca.be/wp-content/uploads/2019/12/koen62.jpg
END:VEVENT
BEGIN:VEVENT
DTSTART;TZID=Europe/Brussels:20260830T100000
DTEND;TZID=Europe/Brussels:20260830T170000
DTSTAMP:20260423T121810
CREATED:20251228T191810Z
LAST-MODIFIED:20251228T191810Z
UID:7632-1788084000-1788109200@www.kmyca.be
SUMMARY:Wedstrijd Stoomvaren
DESCRIPTION:
URL:https://www.kmyca.be/event/wedstrijd-stoomvaren-13/
LOCATION:Vaarwater\, ThonetLaan\, Antwerpen\, 2050\, België
CATEGORIES:Activiteiten Kalender 2026,Activiteiten StoomVaren,KMYCA
ATTACH;FMTTYPE=image/jpeg:https://www.kmyca.be/wp-content/uploads/2025/06/IMG_1808.jpg
END:VEVENT
BEGIN:VEVENT
DTSTART;TZID=Europe/Brussels:20260911T200000
DTEND;TZID=Europe/Brussels:20260911T220000
DTSTAMP:20260423T121810
CREATED:20251122T184523Z
LAST-MODIFIED:20251122T184523Z
UID:7531-1789156800-1789164000@www.kmyca.be
SUMMARY:Vergadering Draincock
DESCRIPTION:Vergaderzaal “WILG”
URL:https://www.kmyca.be/event/vergadering-draincock-19/
LOCATION:’t Gasthuis\, Turnhoutsebaan 199\, Wijnegem\, 2110\, België
CATEGORIES:Activiteiten Kalender 2026,Activiteiten Treinen,KMYCA
ATTACH;FMTTYPE=image/png:https://www.kmyca.be/wp-content/uploads/2025/02/afbeelding_2025-02-28_204111270.png
END:VEVENT
BEGIN:VEVENT
DTSTART;TZID=Europe/Brussels:20260913T100000
DTEND;TZID=Europe/Brussels:20260913T170000
DTSTAMP:20260423T121810
CREATED:20251228T191941Z
LAST-MODIFIED:20251228T191941Z
UID:7634-1789293600-1789318800@www.kmyca.be
SUMMARY:Wedstrijd Electrovaren
DESCRIPTION:
URL:https://www.kmyca.be/event/wedstrijd-electrovaren-10/
LOCATION:Vaarwater\, ThonetLaan\, Antwerpen\, 2050\, België
CATEGORIES:Activiteiten Kalender 2026,Activiteiten MotorVaren,KMYCA
ATTACH;FMTTYPE=image/jpeg:https://www.kmyca.be/wp-content/uploads/2022/05/DSC_6926.jpg
END:VEVENT
BEGIN:VEVENT
DTSTART;VALUE=DATE:20260919
DTEND;VALUE=DATE:20260921
DTSTAMP:20260423T121810
CREATED:20251112T190159Z
LAST-MODIFIED:20251112T190355Z
UID:7507-1789776000-1789948799@www.kmyca.be
SUMMARY:Baasrode Feest
DESCRIPTION:Tentoonstelling StoomBoten
URL:https://www.kmyca.be/event/baasrode-feest/
LOCATION:Baasrode\, Sint-Ursmarusstraat 137\, Antwerpen\, 9200\, België
CATEGORIES:Activiteiten Kalender 2026,Activiteiten MotorVaren,Activiteiten StoomVaren,KMYCA
ORGANIZER;CN="KMYCA":MAILTO:info@kmyca.be
END:VEVENT
BEGIN:VEVENT
DTSTART;TZID=Europe/Brussels:20260927T100000
DTEND;TZID=Europe/Brussels:20260927T170000
DTSTAMP:20260423T121810
CREATED:20251228T192106Z
LAST-MODIFIED:20251228T192106Z
UID:7636-1790503200-1790528400@www.kmyca.be
SUMMARY:Wedstrijd Stoomvaren
DESCRIPTION:
URL:https://www.kmyca.be/event/wedstrijd-stoomvaren-14/
LOCATION:Vaarwater\, ThonetLaan\, Antwerpen\, 2050\, België
CATEGORIES:Activiteiten Kalender 2026,Activiteiten StoomVaren,KMYCA
ATTACH;FMTTYPE=image/jpeg:https://www.kmyca.be/wp-content/uploads/2022/05/DSC_6913.jpg
END:VEVENT
BEGIN:VEVENT
DTSTART;TZID=Europe/Brussels:20261004T100000
DTEND;TZID=Europe/Brussels:20261004T170000
DTSTAMP:20260423T121810
CREATED:20251228T192228Z
LAST-MODIFIED:20251228T192228Z
UID:7638-1791108000-1791133200@www.kmyca.be
SUMMARY:Wedstrijd Electrovaren
DESCRIPTION:
URL:https://www.kmyca.be/event/wedstrijd-electrovaren-11/
LOCATION:Vaarwater\, ThonetLaan\, Antwerpen\, 2050\, België
CATEGORIES:Activiteiten Kalender 2026,Activiteiten MotorVaren,KMYCA
ATTACH;FMTTYPE=image/jpeg:https://www.kmyca.be/wp-content/uploads/2025/06/IMG_1815.jpg
END:VEVENT
BEGIN:VEVENT
DTSTART;TZID=Europe/Brussels:20261009T200000
DTEND;TZID=Europe/Brussels:20261009T220000
DTSTAMP:20260423T121810
CREATED:20251122T184640Z
LAST-MODIFIED:20251122T184640Z
UID:7533-1791576000-1791583200@www.kmyca.be
SUMMARY:Vergadering Draincock
DESCRIPTION:Vergaderzaal “WILG”
URL:https://www.kmyca.be/event/vergadering-draincock-20/
LOCATION:’t Gasthuis\, Turnhoutsebaan 199\, Wijnegem\, 2110\, België
CATEGORIES:Activiteiten Kalender 2026,Activiteiten Treinen,KMYCA
ATTACH;FMTTYPE=image/png:https://www.kmyca.be/wp-content/uploads/2025/02/afbeelding_2025-02-28_204111270.png
END:VEVENT
BEGIN:VEVENT
DTSTART;TZID=Europe/Brussels:20261017T170000
DTEND;TZID=Europe/Brussels:20261017T210000
DTSTAMP:20260423T121810
CREATED:20251228T192421Z
LAST-MODIFIED:20251228T192421Z
UID:7640-1792256400-1792270800@www.kmyca.be
SUMMARY:Schemervaren
DESCRIPTION:
URL:https://www.kmyca.be/event/schemervaren-2/
LOCATION:Vaarwater\, ThonetLaan\, Antwerpen\, 2050\, België
CATEGORIES:Activiteiten Kalender 2026,Activiteiten MotorVaren,Activiteiten StoomVaren,KMYCA
ATTACH;FMTTYPE=image/jpeg:https://www.kmyca.be/wp-content/uploads/2019/12/Koen03.jpg
ORGANIZER;CN="KMYCA":MAILTO:info@kmyca.be
END:VEVENT
BEGIN:VEVENT
DTSTART;TZID=Europe/Brussels:20261115T130000
DTEND;TZID=Europe/Brussels:20261115T170000
DTSTAMP:20260423T121810
CREATED:20251228T192704Z
LAST-MODIFIED:20251228T192704Z
UID:7642-1794747600-1794762000@www.kmyca.be
SUMMARY:Hotdogvaren
DESCRIPTION:
URL:https://www.kmyca.be/event/hotdogvaren-2/
LOCATION:Vaarwater\, ThonetLaan\, Antwerpen\, 2050\, België
CATEGORIES:Activiteiten Kalender 2026,Activiteiten MotorVaren,Activiteiten StoomVaren,KMYCA
ATTACH;FMTTYPE=image/jpeg:https://www.kmyca.be/wp-content/uploads/2019/12/stoomvaren1.jpg
ORGANIZER;CN="KMYCA":MAILTO:info@kmyca.be
END:VEVENT
BEGIN:VEVENT
DTSTART;TZID=Europe/Brussels:20261227T130000
DTEND;TZID=Europe/Brussels:20261227T170000
DTSTAMP:20260423T121810
CREATED:20251228T192825Z
LAST-MODIFIED:20251228T192825Z
UID:7644-1798376400-1798390800@www.kmyca.be
SUMMARY:Kerstvaren
DESCRIPTION:
URL:https://www.kmyca.be/event/kerstvaren-2/
LOCATION:Vaarwater\, ThonetLaan\, Antwerpen\, 2050\, België
CATEGORIES:Activiteiten Kalender 2026,Activiteiten MotorVaren,Activiteiten StoomVaren,KMYCA
ATTACH;FMTTYPE=image/jpeg:https://www.kmyca.be/wp-content/uploads/2023/05/20230521_112044_resized_1.jpg
ORGANIZER;CN="KMYCA":MAILTO:info@kmyca.be
END:VEVENT
END:VCALENDAR